BEGIN:VCALENDAR
VERSION:2.0
PRODID:-//Volt Europa//Events//EN
CALSCALE:GREGORIAN
METHOD:PUBLISH
BEGIN:VEVENT
UID:haag-en-rijnland-q-a-met-volt-raadsleden-1732906800@voltnederland.org
DTSTAMP:20260423T144444Z
DTSTART;TZID=Europe/Amsterdam:20241129T200000
DTEND;TZID=Europe/Amsterdam:20241129T223000
SUMMARY:Haag en Rijnland - Q&A met Volt Raadsleden
DESCRIPTION:Altijd al willen weten hoe het nou echt is om Volt-raadslid te 
 zijn? Kom dan vooral vrijdagavond 29 november naar het Koorenhuis in Den Ha
 ag. Kyra van Volt Delft en Jacco van Volt Eindhoven komen naar Den Haag om 
 te vertellen hoe het raadsleven eruit ziet en al onze vragen te beantwoorde
 n. Met Mylène als host! Dit is dus een perfecte (eerste) gelegenheid om je
  eens in te leven in deze rol en te zien of het wat voor jou zou kunnen zij
 n - en natuurlijk ook om te ontdekken wie dit nog meer overwege
LOCATION:Het Koorenhuis\, Prinsegracht 27 Den Haag
URL:https://voltnederland.org/zuid-holland/agenda/haag-en-rijnland-q-a-met-
 volt-raadsleden
END:VEVENT
END:VCALENDAR
