BEGIN:VCALENDAR
VERSION:2.0
PRODID:-//Volt Europa//Events//EN
CALSCALE:GREGORIAN
METHOD:PUBLISH
BEGIN:VEVENT
UID:goede-gesprekken-te-koop-1760774400@voltnederland.org
DTSTAMP:20260423T114048Z
DTSTART;TZID=Europe/Amsterdam:20251018T100000
DTEND;TZID=Europe/Amsterdam:20251018T170000
SUMMARY:Goede gesprekken te koop!
DESCRIPTION:Goede gesprekken te koop! Volt is van alle markten thuis. Op za
 terdag 18 oktober gaan we in gesprek met mensen over duurzaamheid en het ba
 sisinkomen op de Oogstmarkt op het Noordplein en op de Afrikaandermarkt op 
 het Afrikaanderplein.  Duurzaamheid & het basisinkomen. Belangrijke speerpu
 nten voor Volt. Hoe kijken mensen hiernaar? Praat\, luister en laat zien wa
 ar Volt voor staat! Zien we jou daar? Oogstmarkt We gaan eten uitdelen en i
 n gesprek over duurzaamheid en basisinkomen. Afrikaandermarkt W
LOCATION:Oogstmarkt & Afrikaandermarkt
URL:https://voltnederland.org/zuid-holland/agenda/goede-gesprekken-te-koop
END:VEVENT
END:VCALENDAR
