BEGIN:VCALENDAR
VERSION:2.0
PRODID:-//Volt Europa//Events//EN
CALSCALE:GREGORIAN
METHOD:PUBLISH
BEGIN:VEVENT
UID:general-assembly-frankfurt-1763679600@voltnederland.org
DTSTAMP:20260424T030511Z
DTSTART;TZID=Europe/Amsterdam:20251121T000000
DTEND;TZID=Europe/Amsterdam:20251123T000000
SUMMARY:General Assembly Frankfurt
DESCRIPTION:Volt droomt van een sterk\, slim & soeverein Europa. Verenigd d
 oor één doel\, niet verdeeld door grenzen.  Die visie komt tot leven tijd
 ens de  general assembly!  Daar komen Votlers uit heel Europa samen om te l
 eren\, te verbinden en onze samenwerking te vieren. Wij gaan met het bestuu
 r van Volt Rotterdam Zuid-Holland Zuid en andere Votlers naar de GA\, dit j
 aar georganiseerd in Frankfurt.  Wil je samen reizen of samen naar events? 
 Stuur dan een van de bestuursleden een berichtje!
LOCATION:Frankfurt
URL:https://voltnederland.org/zuid-holland/agenda/general-assembly-frankfur
 t
END:VEVENT
END:VCALENDAR
