BEGIN:VCALENDAR
VERSION:2.0
PRODID:-//Volt Europa//Events//EN
CALSCALE:GREGORIAN
METHOD:PUBLISH
BEGIN:VEVENT
UID:eulifant-campagneactie-1717243200@voltnederland.org
DTSTAMP:20260423T113924Z
DTSTART;TZID=Europe/Amsterdam:20240601T140000
DTEND;TZID=Europe/Amsterdam:20240601T170000
SUMMARY:EUlifant campagneactie
DESCRIPTION:Zaterdag 1 juni om 14 uur hebben we weer onze EUlifant actie\, 
 dit keer bij Rotterdam Centraal! Dit doen we omdat de EU de Olifant in de k
 amer is in de Nederlandse politiek. Het zou leuk zijn je hier ook te zien!
LOCATION:Rotterdam Centraal
URL:https://voltnederland.org/zuid-holland/agenda/eulifant-campagneactie
END:VEVENT
END:VCALENDAR
