BEGIN:VCALENDAR
VERSION:2.0
PRODID:-//Volt Europa//Events//EN
CALSCALE:GREGORIAN
METHOD:PUBLISH
BEGIN:VEVENT
UID:doe-mee-met-de-grote-leden-belactie-van-volt-delft-1739212200@voltneder
 land.org
DTSTAMP:20260423T114310Z
DTSTART;TZID=Europe/Amsterdam:20250210T193000
DTEND;TZID=Europe/Amsterdam:20250210T213000
SUMMARY:Doe mee met de grote leden-belactie van Volt Delft
DESCRIPTION:ENGLISH BELOW: Op maandag 10 en donderdag 13 februari gaan we o
 nder de leden van Volt Delft een belactie houden. We gaan onze leden inform
 eren en enthousiasmeren om bij te dragen aan de gemeenteraadsverkiezingen v
 an 2026. Dat kan door te solliciteren als kandidaat raads- en/of commissiel
 id\, door mee te schrijven aan het verkiezingsprogramma en/of door een dona
 tie te doen aan de campagnekas van Volt Delft. Dit is het plan: jij brengt 
 jezelf en je telefoon mee en wij zorgen voor een script en een 
LOCATION:Delft
URL:https://voltnederland.org/zuid-holland/agenda/doe-mee-met-de-grote-lede
 n-belactie-van-volt-delft
END:VEVENT
END:VCALENDAR
