BEGIN:VCALENDAR
VERSION:2.0
PRODID:-//Volt Europa//Events//EN
CALSCALE:GREGORIAN
METHOD:PUBLISH
BEGIN:VEVENT
UID:doe-mee-cratie-bijeenkomst-1765563300@voltnederland.org
DTSTAMP:20260423T211944Z
DTSTART;TZID=Europe/Amsterdam:20251212T191500
DTEND;TZID=Europe/Amsterdam:20251212T211500
SUMMARY:Doe-mee-cratie bijeenkomst
DESCRIPTION:Volt is opgericht als tegenhanger voor het populisme dat tot de
  Brexit leidde. We willen de democratie versterken\, en dat doen we ook! He
 t is nog niet zo makkelijk\, want er spelen allemaal andere krachten. Deze 
 sessie is bedoeld om scherper na te kunnen denken over je eigen democratisc
 h handelen. En dit vooral ook veel meer te gaan doen. Doe-mee-cratie!  Wat 
 kun jij als actieve Volter doen om de democratie te versterken? Hoe maakt j
 e jezelf weerbaarder tegen de heersende politieke cultuur en her
LOCATION:Partijkantoor
URL:https://voltnederland.org/agenda/doe-mee-cratie-bijeenkomst
END:VEVENT
END:VCALENDAR
