BEGIN:VCALENDAR
VERSION:2.0
PRODID:-//Volt Europa//Events//EN
CALSCALE:GREGORIAN
METHOD:PUBLISH
BEGIN:VEVENT
UID:diaspora-protest-volt-albanie-in-den-haag-1716458400@voltnederland.org
DTSTAMP:20260423T114340Z
DTSTART;TZID=Europe/Amsterdam:20240523T120000
DTEND;TZID=Europe/Amsterdam:20240523T160000
SUMMARY:Diaspora protest Volt Albanië in Den Haag
DESCRIPTION:We're protesting for the Diaspora to be allowed to vote from ab
 road in the 2025 Albanian national elections\, a very important topic for A
 lbanians as there's more Albanians living outside the country than inside. 
 It's also an important opportunity to show that Volt is active in Albania 
 and strongly supported by all the European chapters.  Our most important 
 goal in Albania right now is to run in the 2025 elections and the diaspora 
 vote (if allowed before then) could be very important in securing 
LOCATION:Zwarte Brug\, Turfmarkt Den Haag
URL:https://voltnederland.org/zuid-holland/agenda/diaspora-protest-volt-alb
 anie-in-den-haag
END:VEVENT
END:VCALENDAR
