BEGIN:VCALENDAR
VERSION:2.0
PRODID:-//Volt Europa//Events//EN
CALSCALE:GREGORIAN
METHOD:PUBLISH
BEGIN:VEVENT
UID:delft-de-toekomst-van-de-maakindustrie-reinier-van-lanschot-1772469000@
 voltnederland.org
DTSTAMP:20260423T115036Z
DTSTART;TZID=Europe/Amsterdam:20260302T173000
DTEND;TZID=Europe/Amsterdam:20260302T213000
SUMMARY:Delft – De toekomst van de maakindustrie - Reinier van Lanschot
DESCRIPTION:Kom allemaal naar dit interessante evenement en meld je aan!! O
 p maandag 2 maart bezoekt Reinier van Lanschot (MEP Volt Europa) Delft. Rei
 nier zal vooral spreken over het belang van een krachtige Europese industri
 e\, de noodzaak om onderzoek\,  innovatie en bedrijvigheid te stimuleren en
  wat de plannen van de Europese Unie daarvoor zijn.  Na de inleiding van Re
 inier zullen vertegenwoordigers van Volt Delft\, de Delftse onderneming Oct
 atube\, de Stichting HiDelta\, VNONCW en Reinier het onderwerp in e
LOCATION:Het Vakwerkhuis in Delft (collegezaal)\, Professor Schermerhornstr
 aat 4
URL:https://voltnederland.org/zuid-holland/agenda/delft-de-toekomst-van-de-
 maakindustrie-reinier-van-lanschot
END:VEVENT
END:VCALENDAR
