BEGIN:VCALENDAR
VERSION:2.0
PRODID:-//Volt Europa//Events//EN
CALSCALE:GREGORIAN
METHOD:PUBLISH
BEGIN:VEVENT
UID:debat-toekomst-van-de-westelijke-balkan-1716726600@voltnederland.org
DTSTAMP:20260423T114310Z
DTSTART;TZID=Europe/Amsterdam:20240526T143000
DTEND;TZID=Europe/Amsterdam:20240526T170000
SUMMARY:Debat: Toekomst van de Westelijke Balkan
DESCRIPTION:'De toekomst van de Westelijke Balkan en de Europese Unie: wor
 dt het integratie of isolatie?' Aan de vooravond van de verkiezingen voor h
 et Europees Parlement (EP) organiseren Comite Humanitair Ingrijpen\, Sti
 chting Nederlands Albanees Vriendschapverband en PAX voor Vrede een debat
  met Nederlandse EP kandidaten en vertegenwoordigers van het maatschappel
 ijk middenveld uit de landen van de Westelijke Balkan. Centraal Staat de ro
 l van Nederland in de Europese Unie (EU) i.v.m. met het toetredingsproc
LOCATION:Café de Keyzer\, Kaiserstraat 2-4 Leiden
URL:https://voltnederland.org/zuid-holland/agenda/debat-toekomst-van-de-wes
 telijke-balkan
END:VEVENT
END:VCALENDAR
