BEGIN:VCALENDAR
VERSION:2.0
PRODID:-//Volt Europa//Events//EN
CALSCALE:GREGORIAN
METHOD:PUBLISH
BEGIN:VEVENT
UID:de-volt-veiling-haag-en-rijnland-bij-theater-ludens-1748626200@voltnede
 rland.org
DTSTAMP:20260423T144528Z
DTSTART;TZID=Europe/Amsterdam:20250530T193000
DTEND;TZID=Europe/Amsterdam:20250530T235900
SUMMARY:Veiling van Volt Haag- en Rijnland
DESCRIPTION:Dit jaar gaan we het groots aanpakken! In de avond van vrijdag 
 30 mei 2025 heb jij dé kans om tijdens de Volt-veiling unieke veilingitems
  te bemachtigen. Veel Volters bieden dan bijzondere activiteiten\, prachtig
 e voorwerpen en nuttige diensten aan via een veiling. De opbrengs gaat naar
  de campagnekas van de verschillende afdelingen van Volt Haag- en Rijnland\
 , zodat we de gemeenteraadsverkiezingen 2026 goed aan kunnen pakken. Deze a
 vond vindt plaats in het prachtige theater Ludens in Voorburg. Bo
LOCATION:Theater Ludens\, Burgemeester Feithplein 95\, 2273 BW Voorburg
URL:https://voltnederland.org/zuid-holland/agenda/de-volt-veiling-haag-en-r
 ijnland-bij-theater-ludens
END:VEVENT
END:VCALENDAR
