BEGIN:VCALENDAR
VERSION:2.0
PRODID:-//Volt Europa//Events//EN
CALSCALE:GREGORIAN
METHOD:PUBLISH
BEGIN:VEVENT
UID:de-rotterdamse-wijk-in-met-de-bakfiets-1738409400@voltnederland.org
DTSTAMP:20260424T061218Z
DTSTART;TZID=Europe/Amsterdam:20250201T123000
DTEND;TZID=Europe/Amsterdam:20250201T143000
SUMMARY:De Rotterdamse wijk in met de bakfiets!
DESCRIPTION:Een paar maanden geleden ging het D&I en Grassrootsteam op pad 
 naar Carnisse\, waar we in gesprek gingen met bewoners over hun ervaringen 
 in de wijk. Waar we normaal gesproken vanuit een Europees perspectief prate
 n\, kwamen in de wijk hele andere onderwerpen naar voren. Denk aan probleme
 n zoals hondenpoep\, een tekort aan huisartsen of het ontbreken van voetbal
 veldjes. Als echte Volters konden we het natuurlijk niet laten om hier en d
 aar de effecten van de EU te benoemen in het bereiken van simpele
LOCATION:Rotterdam (tbd)
URL:https://voltnederland.org/zuid-holland/agenda/de-rotterdamse-wijk-in-me
 t-de-bakfiets
END:VEVENT
END:VCALENDAR
