BEGIN:VCALENDAR
VERSION:2.0
PRODID:-//Volt Europa//Events//EN
CALSCALE:GREGORIAN
METHOD:PUBLISH
BEGIN:VEVENT
UID:de-rode-lijn-5-oktober-2025-1759660200@voltnederland.org
DTSTAMP:20260423T023418Z
DTSTART;TZID=Europe/Amsterdam:20251005T123000
DTEND;TZID=Europe/Amsterdam:20251005T170000
SUMMARY:De Rode Lijn - 5 oktober 2025
DESCRIPTION:Zondag 5 oktober trekken we massaal opnieuw de Rode Lijn. Na tw
 ee Rode Lijn-demonstraties in Den Haag is het nu de beurt aan onze hoofdsta
 d Amsterdam. We verzamelen vanaf 12:30 bij Rijksmuseum Museumpleinzijde lin
 ks in Amsterdam\, kom ook en neem je vrienden mee! Terwijl het overgrote de
 el van Nederland wil dat onze regering concrete sancties neemt om de genoci
 de te stoppen en de bezetting van Palestina te beëindigen\, gebeurt er in 
 politiek Den Haag niks. Een fundamentele koerswijziging is dan oo
LOCATION:Amsterdam
URL:https://voltnederland.org/agenda/de-rode-lijn-5-oktober-2025
END:VEVENT
END:VCALENDAR
