BEGIN:VCALENDAR
VERSION:2.0
PRODID:-//Volt Europa//Events//EN
CALSCALE:GREGORIAN
METHOD:PUBLISH
BEGIN:VEVENT
UID:de-communityborrel-gaat-on-tour-deze-maand-naar-het-zuiderstrand-175458
 9600@voltnederland.org
DTSTAMP:20260423T114924Z
DTSTART;TZID=Europe/Amsterdam:20250807T200000
DTEND;TZID=Europe/Amsterdam:20250807T223000
SUMMARY:De communityborrel gaat on tour\, deze maand naar het Zuiderstrand
DESCRIPTION:Onze communityborrel gaat on tour! Dit doen we ook in de zomer.
  We willen zoveel mogelijk stadsdelen leren kennen en voor iedereen toegank
 elijk zijn. Daarom strijken we deze keer neer op het Zuiderstrand voor een 
 zomerse location namelijk: strandtent Bariloche Beach. Een verborgen juweel
  langs de Haagsche kustlijn Neem vooral je vrienden\, familie\, collega’s
  en kennissen mee om bij te praten en nieuwe mensen te ontmoeten. Of je nou
  net lid bent of al jaren actief. Je bent meer dan welkom! Heb je 
LOCATION:Bariloche Beach\, strandslag 6 Den Haag
URL:https://voltnederland.org/zuid-holland/agenda/de-communityborrel-gaat-o
 n-tour-deze-maand-naar-het-zuiderstrand
END:VEVENT
END:VCALENDAR
