BEGIN:VCALENDAR
VERSION:2.0
PRODID:-//Volt Europa//Events//EN
CALSCALE:GREGORIAN
METHOD:PUBLISH
BEGIN:VEVENT
UID:de-communityborrel-gaat-on-tour-deze-maand-naar-het-hofkwartier-1751565
 600@voltnederland.org
DTSTAMP:20260423T144615Z
DTSTART;TZID=Europe/Amsterdam:20250703T200000
DTEND;TZID=Europe/Amsterdam:20250703T223000
SUMMARY:De communityborrel gaat on tour\, deze maand naar de Zuidwal!
DESCRIPTION:ENGLISH BELOW Onze communityborrel gaat on tour! We willen zove
 el mogelijk plekken in de stad leren kennen en zorgen dat onze bijeenkomste
 n voor iedereen toegankelijk zijn. Deze maand landen we aan de Dunne Bierka
 de\, midden in het oude centrum van Den Haag\, bij het unieke en duurzame R
 estaurant Ethica. Ethica is geen doorsnee restaurant: het ligt aan de grach
 t. Bijzonder is dat Ethica zoveel mogelijk zelf maakt: van bier en frisdran
 k tot tempeh en sojasaus\, allemaal huisgemaakt en duurzaam gepro
LOCATION:Dunne Bierkade 35\, 2512 BD Den Haag
URL:https://voltnederland.org/zuid-holland/agenda/de-communityborrel-gaat-o
 n-tour-deze-maand-naar-het-hofkwartier
END:VEVENT
END:VCALENDAR
