BEGIN:VCALENDAR
VERSION:2.0
PRODID:-//Volt Europa//Events//EN
CALSCALE:GREGORIAN
METHOD:PUBLISH
BEGIN:VEVENT
UID:de-communityborrel-gaat-on-tour-deze-maand-in-segbroek-1743703200@voltn
 ederland.org
DTSTAMP:20260423T114550Z
DTSTART;TZID=Europe/Amsterdam:20250403T200000
DTEND;TZID=Europe/Amsterdam:20250403T223000
SUMMARY:De communityborrel gaat on tour\, deze maand in Segbroek!
DESCRIPTION:English below Onze communityborrel gaat on tour! We willen zove
 el mogelijk stadsdelen leren kennen én toegankelijk zijn voor iedereen. Da
 arom houden we de borrel deze keer in Segbroek\, in een locatie die velen z
 ullen kennen: De Stamboom.  Neem al je vrienden\, familie\, collega's en ke
 nnissen mee naar de borrel om bij te praten\, en ontmoet mede-Volters! Ook 
 hebben we die avond wat speciale gasten die over stadsdeel Segbroek\, de op
 vanglocatie in het Haga en de leuke mensen komen vertellen Heb je vr
LOCATION:De Stamboom\, Eikstraat 1\, 2565 MT Den Haag
URL:https://voltnederland.org/zuid-holland/agenda/de-communityborrel-gaat-o
 n-tour-deze-maand-in-segbroek
END:VEVENT
END:VCALENDAR
