BEGIN:VCALENDAR
VERSION:2.0
PRODID:-//Volt Europa//Events//EN
CALSCALE:GREGORIAN
METHOD:PUBLISH
BEGIN:VEVENT
UID:dag-van-europa-demonstreer-bij-het-catshuis-op-9-mei-1746775800@voltned
 erland.org
DTSTAMP:20260423T114544Z
DTSTART;TZID=Europe/Amsterdam:20250509T093000
DTEND;TZID=Europe/Amsterdam:20250509T120000
SUMMARY:Dag van Europa\, Demonstreer bij het Catshuis op 9 mei
DESCRIPTION:ENGLISH BELOW Op vrijdag 9 mei\, de Dag van Europa\, willen we 
 met een groep Volters demonstreren bij de inloop van de ministerraad in Den
  Haag\, om ons Europese geluid luid en duidelijk te laten horen. De ministe
 rraad vindt die dag waarschijnlijk plaats in het Catshuis. We willen er sta
 an tussen 10.00 en 12.00 uur. De locatie kan eventueel nog wijzigen\, maar 
 blijft in Den Haag. Dit is hét moment voor maximale zichtbaarheid: de pers
  is er al aanwezig en wij kunnen letterlijk in de spotlights staan!
LOCATION:Mandela Monument in Den Haag (daarna lopen we samen naar het Catsh
 uis)
URL:https://voltnederland.org/zuid-holland/agenda/dag-van-europa-demonstree
 r-bij-het-catshuis-op-9-mei
END:VEVENT
END:VCALENDAR
