BEGIN:VCALENDAR
VERSION:2.0
PRODID:-//Volt Europa//Events//EN
CALSCALE:GREGORIAN
METHOD:PUBLISH
BEGIN:VEVENT
UID:community-borrel-rdam-zhz-feb-2025-1761764400@voltnederland.org
DTSTAMP:20260423T114253Z
DTSTART;TZID=Europe/Amsterdam:20251029T200000
DTEND;TZID=Europe/Amsterdam:20251029T235900
SUMMARY:Verkiezingsavond
DESCRIPTION:Op 29 oktober is het tijd voor de Tweede Kamerverkiezingen. 's 
 Avonds zullen we met elkaar terugblikken op de campagne en in spanning de e
 erste uitslagen afwachten. Kom gezellig langs om samen de verkiezingsavond 
 te beleven in Café Floor! Hopelijk zien we je daar om een succesvolle camp
 agne vieren! Het is ook mogelijk om vrienden of familie te introduceren. Li
 d zijn van Volt is niet nodig.
LOCATION:Café Floor (Schouwburgplein 28\, Rotterdam)
URL:https://voltnederland.org/zuid-holland/agenda/community-borrel-rdam-zhz
 -feb-2025
END:VEVENT
END:VCALENDAR
