BEGIN:VCALENDAR
VERSION:2.0
PRODID:-//Volt Europa//Events//EN
CALSCALE:GREGORIAN
METHOD:PUBLISH
BEGIN:VEVENT
UID:community-borrel-den-haag2-1731006000@voltnederland.org
DTSTAMP:20260421T091635Z
DTSTART;TZID=Europe/Amsterdam:20241107T200000
DTEND;TZID=Europe/Amsterdam:20241107T230000
SUMMARY:Community borrel - Den Haag
DESCRIPTION:English below Het is weer tijd voor de maandelijkse borrel van 
 Volt Den Haag! Neem al je vrienden\, familie\, collega's en kennissen mee n
 aar de borrel om bij te praten\, en ontmoet mede-Volters! Heb je vragen ove
 r toegankelijkheid of kun je ons niet vinden? Neem contact op met Astrid Pl
 ugge (astrid.plugge@volteuropa.org) English version: It is yet again time f
 or the monthly drink of Volt The Hague! Bring all your friends\, family\, c
 olleagues and acquaintances to a drink to catch up and meet fellow 
LOCATION:Café Restaurant Leopold\, Plein 17
URL:https://voltnederland.org/zuid-holland/agenda/community-borrel-den-haag
 2
END:VEVENT
END:VCALENDAR
