BEGIN:VCALENDAR
VERSION:2.0
PRODID:-//Volt Europa//Events//EN
CALSCALE:GREGORIAN
METHOD:PUBLISH
BEGIN:VEVENT
UID:community-borrel-den-haag-1718299800@voltnederland.org
DTSTAMP:20260423T023302Z
DTSTART;TZID=Europe/Amsterdam:20240613T193000
DTEND;TZID=Europe/Amsterdam:20240613T223000
SUMMARY:Community borrel - Den Haag
DESCRIPTION:Het is weer tijd voor de borrel! Een week later dan normaal\, v
 anwege de verkiezingen op 6 juni. Op 13 juni kunnen we met z'n allen naprat
 en over de - hopelijk geslaagde - campagne en verkiezingen in de 15 landen 
 waar Volt meedoet! Er komen verschillende kandidaten van de EP lijst langs 
 om met jou na te praten. Ook willen we de vrijwilligers die van Volt in Den
  Haag een succes maken\, zowel in als buiten de campagne in het zonnetje ze
 tten als dank voor hun harde werk. Daarnaast hebben we de laatst
LOCATION:Café Barlow\, Plein 15\, Den Haag
URL:https://voltnederland.org/zuid-holland/agenda/community-borrel-den-haag
END:VEVENT
END:VCALENDAR
