BEGIN:VCALENDAR
VERSION:2.0
PRODID:-//Volt Europa//Events//EN
CALSCALE:GREGORIAN
METHOD:PUBLISH
BEGIN:VEVENT
UID:community-borrel-april-1713895200@voltnederland.org
DTSTAMP:20260423T102103Z
DTSTART;TZID=Europe/Amsterdam:20240423T200000
DTEND;TZID=Europe/Amsterdam:20240423T235900
SUMMARY:Community borrel: pubquiz!
DESCRIPTION:Doe mee aan de pubquiz over Europa! Test je geografische\, cult
 urele en politieke kennis over Europa tijdens de maandelijkse borrel in caf
 é Stalles.  De borrel is ook toegankelijk voor mensen die geen lid zijn va
 n Volt. Heb je vragen over de borrel? Stuur dan een berichtje naar Jan via 
 community.rotterdam@voltnederland.org
LOCATION:Rotterdam - Café Stalles
URL:https://voltnederland.org/zuid-holland/agenda/community-borrel-april
END:VEVENT
END:VCALENDAR
