BEGIN:VCALENDAR
VERSION:2.0
PRODID:-//Volt Europa//Events//EN
CALSCALE:GREGORIAN
METHOD:PUBLISH
BEGIN:VEVENT
UID:campagneklapper-stadstour-1761386400@voltnederland.org
DTSTAMP:20260423T102102Z
DTSTART;TZID=Europe/Amsterdam:20251025T120000
DTEND;TZID=Europe/Amsterdam:20251025T180000
SUMMARY:Campagneklapper: Stadstour
DESCRIPTION:De laatst zaterdag voor de verkiezingen is de klapper van de ca
 mpagne! Doe iets nieuws\, probeer nieuwe horeca\, ervaar nieuwe dingen!  Sa
 men met kandidaten van de kieslijst gaan we de diversiteit van de stad vier
 en!  Zorg dat Rotterdam paars kleurt vlak voor de verkiezingen. Hopelijk zi
 en we jou tijdens deze zaterdag vol nieuwe ervaringen.  Meer informatie vol
 gt.
LOCATION:Rotterdam
URL:https://voltnederland.org/zuid-holland/agenda/campagneklapper-stadstour
END:VEVENT
END:VCALENDAR
