BEGIN:VCALENDAR
VERSION:2.0
PRODID:-//Volt Europa//Events//EN
CALSCALE:GREGORIAN
METHOD:PUBLISH
BEGIN:VEVENT
UID:campagne-weekend-6-8-maart-1772816400@voltnederland.org
DTSTAMP:20260423T174107Z
DTSTART;TZID=Europe/Amsterdam:20260306T180000
DTEND;TZID=Europe/Amsterdam:20260308T235900
SUMMARY:Campagne weekend 6-8 maart
DESCRIPTION:18 maart  zijn de gemeenteraadsverkiezingen. Daarom staat maart
  in het teken van campagne voeren & Rotterdam paars kleuren! In het campagn
 e weekend van 6 tot en met 8 maart zijn de volgende acties: 6 maart  - Q&A 
 met Anna Strolenberg & brievenbusflyeren 7 maart  - Tijdscapsules in de sta
 d: 'Hoe zie jij de toekomst van Rotterdam?' 8 maart  - Een paars huis bouwe
 n op de Coolsingel Hopelijk zien we je bij een van de acties en kleuren we 
 samen Rotterdam PAARS!
LOCATION:Rotterdam
URL:https://voltnederland.org/zuid-holland/agenda/campagne-weekend-6-8-maar
 t
END:VEVENT
END:VCALENDAR
