BEGIN:VCALENDAR
VERSION:2.0
PRODID:-//Volt Europa//Events//EN
CALSCALE:GREGORIAN
METHOD:PUBLISH
BEGIN:VEVENT
UID:campagne-weekend-13-15-maart-1773421200@voltnederland.org
DTSTAMP:20260423T174128Z
DTSTART;TZID=Europe/Amsterdam:20260313T180000
DTEND;TZID=Europe/Amsterdam:20260315T235900
SUMMARY:Campagne weekend 13-15 maart
DESCRIPTION:18 maart  zijn de gemeenteraadsverkiezingen. Daarom staat maart
  in het teken van campagne voeren & Rotterdam paars kleuren! In het campagn
 e weekend van 6 tot en met 8 maart zijn de volgende acties: 13 maart  - Sam
 en brievenbusflyeren 14 maart  - Rotterdam kleurt PAARS! Flyeren door heel 
 de stad 15 maart  - Hardlopen in het paars & acties 'maak de Meent autovrij
 !'  Hopelijk zien we je bij een van de acties en kleuren we samen Rotterdam
  PAARS!
LOCATION:Rotterdam
URL:https://voltnederland.org/zuid-holland/agenda/campagne-weekend-13-15-ma
 art
END:VEVENT
END:VCALENDAR
