BEGIN:VCALENDAR
VERSION:2.0
PRODID:-//Volt Europa//Events//EN
CALSCALE:GREGORIAN
METHOD:PUBLISH
BEGIN:VEVENT
UID:campagne-kanjer-kick-off-1716033600@voltnederland.org
DTSTAMP:20260423T142724Z
DTSTART;TZID=Europe/Amsterdam:20240518T140000
DTEND;TZID=Europe/Amsterdam:20240518T170000
SUMMARY:Campagne Kanjer Kick-off
DESCRIPTION:Op zaterdag 18 mei is de Campagne Kanjers Kick-off! ⚡️ Wil 
 je meehelpen met de komende campagne voor de Europese verkiezingen? Krijg v
 an ons een crash course campagnevoeren en kom meer te weten over het verkie
 zingsprogramma. Met een originele\, laagdrempelige actie brengen we je skil
 ls direct in de praktijk. Leer ook andere Volt vrijwilligers beter kennen t
 ijdens de afsluitende borrel. Doe je mee? Let op: lid zijn van Volt is vere
 ist.
LOCATION:Tollens Monument in Het Park (Baden Powellaan)
URL:https://voltnederland.org/zuid-holland/agenda/campagne-kanjer-kick-off
END:VEVENT
END:VCALENDAR
