BEGIN:VCALENDAR
VERSION:2.0
PRODID:-//Volt Europa//Events//EN
CALSCALE:GREGORIAN
METHOD:PUBLISH
BEGIN:VEVENT
UID:buttons-maken-op-de-voorburgse-markt-1761375600@voltnederland.org
DTSTAMP:20260423T143823Z
DTSTART;TZID=Europe/Amsterdam:20251025T090000
DTEND;TZID=Europe/Amsterdam:20251025T160000
SUMMARY:Buttons maken op de Voorburgse markt
DESCRIPTION:Kom buttons maken op de Voorburgse markt! Op zaterdag 25 oktobe
 r vind je Volt Leidschendam-Voorburg de hele dag op de markt in Voorburg. M
 et onze eigen kraam willen we voorbijgangers laten zien hoe belangrijk de k
 omende gemeenteraadsverkiezingen zijn. En we hebben iets bijzonders: een  b
 uttonmachine ! Iedereen kan zijn eigen button samenstellen\, of die van een
  ander meehelpen maken. Zo wordt het niet alleen creatief\, maar ook een mo
 oie aanleiding om met elkaar in gesprek te gaan over democratie\,
LOCATION:Oosteinde Voorburg
URL:https://voltnederland.org/zuid-holland/agenda/buttons-maken-op-de-voorb
 urgse-markt
END:VEVENT
END:VCALENDAR
