BEGIN:VCALENDAR
VERSION:2.0
PRODID:-//Volt Europa//Events//EN
CALSCALE:GREGORIAN
METHOD:PUBLISH
BEGIN:VEVENT
UID:borrelvolt-leidschendam-voorburg-1737486000@voltnederland.org
DTSTAMP:20260423T131338Z
DTSTART;TZID=Europe/Amsterdam:20250121T200000
DTEND;TZID=Europe/Amsterdam:20250121T220000
SUMMARY:Borrel Leidschendam-Voorburg
DESCRIPTION:Kom gezellig borrelen met Volt Leidschendam-Voorburg! Dit is dĂ
 © kans om andere Volters te ontmoeten\, terug te blikken op onze recente ac
 tiviteiten en samen na te denken over inspirerende acties voor de toekomst.
  đź“…  Datum:  21-1-2025 đź•’  Tijd:  20:00-22:00 đź“Ť  Locatie:  CafĂ© de 
 Hopkamer\, Oud Voorburg Of je nu al actief bent of gewoon nieuwsgierig\, ie
 dereen is welkom!
LOCATION:CafĂ© de Hopkamer
URL:https://voltnederland.org/zuid-holland/agenda/borrelvolt-leidschendam-v
 oorburg
END:VEVENT
END:VCALENDAR
