BEGIN:VCALENDAR
VERSION:2.0
PRODID:-//Volt Europa//Events//EN
CALSCALE:GREGORIAN
METHOD:PUBLISH
BEGIN:VEVENT
UID:borrelvolt-leidschendam-voorburg-nov-1763492400@voltnederland.org
DTSTAMP:20260423T212108Z
DTSTART;TZID=Europe/Amsterdam:20251118T200000
DTEND;TZID=Europe/Amsterdam:20251118T220000
SUMMARY:Borrel Leidschendam-Voorburg - 18 november
DESCRIPTION:Kom gezellig borrelen met Volt Leidschendam-Voorburg! Dit is dĂ
 © kans om andere Volters te ontmoeten en vooruit te kijken naar de aankomen
 de Gemeenteraadsverkiezingen!  NB: een weekje later dan gebruikelijk đź“…  
 Datum:  18-11-2025 đź•’  Tijd:  20:00-22:00 đź“Ť  Locatie:  CafĂ© de Hopkam
 er\, Oud Voorburg Of je nu al actief bent of gewoon nieuwsgierig\, iedereen
  is welkom.
LOCATION:CafĂ© de Hopkamer
URL:https://voltnederland.org/zuid-holland/agenda/borrelvolt-leidschendam-v
 oorburg-nov
END:VEVENT
END:VCALENDAR
