BEGIN:VCALENDAR
VERSION:2.0
PRODID:-//Volt Europa//Events//EN
CALSCALE:GREGORIAN
METHOD:PUBLISH
BEGIN:VEVENT
UID:borrelvolt-leidschendam-voorburg-feb-10-1770750000@voltnederland.org
DTSTAMP:20260423T212653Z
DTSTART;TZID=Europe/Amsterdam:20260210T200000
DTEND;TZID=Europe/Amsterdam:20260210T220000
SUMMARY:Borrel Leidschendam-Voorburg - 10 feb
DESCRIPTION:Kom gezellig borrelen met Volt Leidschendam-Voorburg! Dit is dĂ
 © kans om andere Volters te ontmoeten\, bij te praten met de kerngroep\, de
  nieuwe communityleads te leren kennen en vooruit te kijken naar de aankome
 nde Gemeenteraadsverkiezingen!  đź“…  Datum:  10-2-2026 đź•’  Tijd:  20:00-
 22:00 đź“Ť  Locatie:  CafĂ© de Hopkamer\, Oud Voorburg Of je nu al actief b
 ent of gewoon nieuwsgierig\, iedereen is welkom.
LOCATION:CafĂ© de Hopkamer
URL:https://voltnederland.org/zuid-holland/agenda/borrelvolt-leidschendam-v
 oorburg-feb-10
END:VEVENT
END:VCALENDAR
