BEGIN:VCALENDAR
VERSION:2.0
PRODID:-//Volt Europa//Events//EN
CALSCALE:GREGORIAN
METHOD:PUBLISH
BEGIN:VEVENT
UID:borrelvolt-leidschendam-voorburg-1-1747159200@voltnederland.org
DTSTAMP:20260423T114247Z
DTSTART;TZID=Europe/Amsterdam:20250513T200000
DTEND;TZID=Europe/Amsterdam:20250513T220000
SUMMARY:Borrel Leidschendam-Voorburg
DESCRIPTION:Kom gezellig borrelen met Volt Leidschendam-Voorburg! Dit is dÃ
 © kans om andere Volters te ontmoeten\, terug te blikken op onze recente ac
 tiviteiten en samen na te denken over inspirerende acties voor de toekomst.
   We gaan op deze avond specifiek in op de activiteit van het V-Team in onz
 e gemeente. Dit is een team van Voltleden dat bezig is aan een verbindend p
 roject rond hoe we in LV de jaarwisseling vieren. We brengen geinteresseerd
 en graag op de hoogte en kunnen ook steun gebruiken. ðŸ“…  Datum:  
LOCATION:CafÃ© de Hopkamer
URL:https://voltnederland.org/zuid-holland/agenda/borrelvolt-leidschendam-v
 oorburg-1
END:VEVENT
END:VCALENDAR
