BEGIN:VCALENDAR
VERSION:2.0
PRODID:-//Volt Europa//Events//EN
CALSCALE:GREGORIAN
METHOD:PUBLISH
BEGIN:VEVENT
UID:borrelvolt-leidschendam-voorburg-1-1-1749578400@voltnederland.org
DTSTAMP:20260423T114307Z
DTSTART;TZID=Europe/Amsterdam:20250610T200000
DTEND;TZID=Europe/Amsterdam:20250610T220000
SUMMARY:Borrel Leidschendam-Voorburg - 10 juni
DESCRIPTION:Kom gezellig borrelen met Volt Leidschendam-Voorburg! Dit is dĂ
 © kans om andere Volters te ontmoeten\, terug te blikken op onze recente ac
 tiviteiten en samen na te denken over inspirerende acties voor de toekomst.
   We hebben wat te vieren - er hebben maar liefst 14 leden gesolliciteerd n
 aar een plek op de kandidatenlijst voor de gemeenteraadsverkiezingen!  đź“…
   Datum:  10-06-2025 đź•’  Tijd:  20:00-22:00 đź“Ť  Locatie:  CafĂ© de Hopk
 amer\, Oud Voorburg Of je nu al actief bent of gewoon nieuwsgierig\, iedere
 e
LOCATION:CafĂ© de Hopkamer
URL:https://voltnederland.org/zuid-holland/agenda/borrelvolt-leidschendam-v
 oorburg-1-1
END:VEVENT
END:VCALENDAR
