BEGIN:VCALENDAR
VERSION:2.0
PRODID:-//Volt Europa//Events//EN
CALSCALE:GREGORIAN
METHOD:PUBLISH
BEGIN:VEVENT
UID:borrelvolt-leidschendam-voorburg-1-1-1-1751997600@voltnederland.org
DTSTAMP:20260423T114410Z
DTSTART;TZID=Europe/Amsterdam:20250708T200000
DTEND;TZID=Europe/Amsterdam:20250708T220000
SUMMARY:Borrel Leidschendam-Voorburg - 8 juli
DESCRIPTION:Kom gezellig borrelen met Volt Leidschendam-Voorburg! Dit is dĂ
 © kans om andere Volters te ontmoeten\, terug te blikken op onze recente ac
 tiviteiten en samen na te denken over inspirerende acties voor de toekomst.
   We hebben een hoop om over bij te praten\, want het schrijven aan ons pro
 gramma is inmiddels in volle gang en er zijn ook diverse bijeenkomsten en u
 itwisselingen verspreid over de gemeente geweest. đź“…  Datum:  08-07-2025 
 đź•’  Tijd:  20:00-22:00 đź“Ť  Locatie:  CafĂ© de Hopkamer\, Oud Voorburg O
 f
LOCATION:CafĂ© de Hopkamer
URL:https://voltnederland.org/zuid-holland/agenda/borrelvolt-leidschendam-v
 oorburg-1-1-1
END:VEVENT
END:VCALENDAR
