BEGIN:VCALENDAR
VERSION:2.0
PRODID:-//Volt Europa//Events//EN
CALSCALE:GREGORIAN
METHOD:PUBLISH
BEGIN:VEVENT
UID:borrelvolt-leidschendam-voorburg-1-1-1-1-1757440800@voltnederland.org
DTSTAMP:20260423T114847Z
DTSTART;TZID=Europe/Amsterdam:20250909T200000
DTEND;TZID=Europe/Amsterdam:20250909T220000
SUMMARY:Borrel Leidschendam-Voorburg - 9 september
DESCRIPTION:Kom gezellig borrelen met Volt Leidschendam-Voorburg! Dit is dĂ
 © kans om andere Volters te ontmoeten\, terug te blikken op onze recente ac
 tiviteiten en samen na te denken over inspirerende acties voor de toekomst.
  Extra bijzonder aan deze editie is dat leden die hebben gesolliciteerd voo
 r een plek op de lijst voor de Gemeenteraadsverkiezingen er zullen zijn!  W
 e hebben een hoop om over bij te praten\, want het schrijven aan ons progra
 mma is inmiddels in volle gang en er zijn ook diverse bijeenkomst
LOCATION:CafĂ© de Hopkamer
URL:https://voltnederland.org/zuid-holland/agenda/borrelvolt-leidschendam-v
 oorburg-1-1-1-1
END:VEVENT
END:VCALENDAR
