BEGIN:VCALENDAR
VERSION:2.0
PRODID:-//Volt Europa//Events//EN
CALSCALE:GREGORIAN
METHOD:PUBLISH
BEGIN:VEVENT
UID:borrel-volt-leiden-1743013800@voltnederland.org
DTSTAMP:20260423T102046Z
DTSTART;TZID=Europe/Amsterdam:20250326T193000
DTEND;TZID=Europe/Amsterdam:20250326T220000
SUMMARY:Borrel Volt Leiden
DESCRIPTION:ENGLISH BELOW De vierde woensdag van de maand zal deze keer zij
 n op 26 maart. De reguliere maandelijkse borrel is altijd een moment om naa
 r uit te kijken dus kom vooral langs om de rest van Volt te leren kennen! H
 eb je vragen over of interesse om meer actief te worden in de community Lei
 den en de Bollenstreek of in het algemeen voor Volt? Stuur een bericht naar
  Leiden@volteuropa.org en word onderdeel van de lokale kartrekkers! ENGLISH
  The fourth Wednesday of the month will be on March 26 this ti
LOCATION:Café 't Brandewijntje\, Morsweg 63\, 2332 EK Leiden
URL:https://voltnederland.org/zuid-holland/agenda/borrel-volt-leiden
END:VEVENT
END:VCALENDAR
