BEGIN:VCALENDAR
VERSION:2.0
PRODID:-//Volt Europa//Events//EN
CALSCALE:GREGORIAN
METHOD:PUBLISH
BEGIN:VEVENT
UID:borrel-volt-leiden-3-2025-1745429400@voltnederland.org
DTSTAMP:20260423T113925Z
DTSTART;TZID=Europe/Amsterdam:20250423T193000
DTEND;TZID=Europe/Amsterdam:20250423T220000
SUMMARY:Borrel April - Volt Leiden
DESCRIPTION:ENGLISH BELOW Leer de rest van Volt Leiden kennen op onze maand
 elijkse borrel\, beter bekend als de Vierde Woensdag. Deze keer op  woensda
 g 23 april \, in Café 't Brandewijntje. Of je nu actief bent binnen Volt o
 f nog nooit bij een evenement bent geweest\, kom langs en leer je mede-Volt
 ers beter kennen! Heb je vragen over of interesse om meer actief te worden 
 in de community Leiden en de Bollenstreek of in het algemeen voor Volt? Stu
 ur een bericht naar  leiden@volteuropa.org  en word onderdeel van 
LOCATION:Café 't Brandewijntje\, Morsweg 63\, 2332 EK Leiden
URL:https://voltnederland.org/zuid-holland/agenda/borrel-volt-leiden-3-2025
END:VEVENT
END:VCALENDAR
