BEGIN:VCALENDAR
VERSION:2.0
PRODID:-//Volt Europa//Events//EN
CALSCALE:GREGORIAN
METHOD:PUBLISH
BEGIN:VEVENT
UID:borrel-volt-leiden-3-2025-1-1748453400@voltnederland.org
DTSTAMP:20260423T113948Z
DTSTART;TZID=Europe/Amsterdam:20250528T193000
DTEND;TZID=Europe/Amsterdam:20250528T220000
SUMMARY:Borrel mei - Volt Leiden
DESCRIPTION:ENGLISH BELOW Leer de rest van Volt Leiden kennen op onze maand
 elijkse borrel\, beter bekend als de Vierde Woensdag. Deze keer op  woensda
 g 28 mei \, in Café 't Brandewijntje. Of je nu actief bent binnen Volt of 
 nog nooit bij een evenement bent geweest\, kom langs en leer je mede-Volter
 s beter kennen! Heb je vragen over of interesse om meer actief te worden in
  de community Leiden en de Bollenstreek of in het algemeen voor Volt? Stuur
  een bericht naar  leiden@volteuropa.org  en word onderdeel van de
LOCATION:Café 't Brandewijntje\, Morsweg 63\, 2332 EK Leiden
URL:https://voltnederland.org/zuid-holland/agenda/borrel-volt-leiden-3-2025
 -1
END:VEVENT
END:VCALENDAR
