BEGIN:VCALENDAR
VERSION:2.0
PRODID:-//Volt Europa//Events//EN
CALSCALE:GREGORIAN
METHOD:PUBLISH
BEGIN:VEVENT
UID:borrel-maandelijks-1720108800@voltnederland.org
DTSTAMP:20260423T102132Z
DTSTART;TZID=Europe/Amsterdam:20240704T180000
DTEND;TZID=Europe/Amsterdam:20240704T233000
SUMMARY:Maandelijkse Haagsche Borrel
DESCRIPTION:De maandelijkse borrel zal in de maand juli plaatsvinden bij Ga
 stropub Van Kinsbergen vanaf 18.00! Kom gezellig langs en maak een praatje 
 met mede-volters en geïnteresseerden.  Neem vrienden\, collega's\, familie
  en kennissen mee!
LOCATION:Gastropub Van Kinsbergen\, Prins Hendrikplein 15\, 2518 JC Den Haa
 g
URL:https://voltnederland.org/zuid-holland/agenda/borrel-maandelijks
END:VEVENT
END:VCALENDAR
