BEGIN:VCALENDAR
VERSION:2.0
PRODID:-//Volt Europa//Events//EN
CALSCALE:GREGORIAN
METHOD:PUBLISH
BEGIN:VEVENT
UID:borrel-juni-2025-volt-leiden-1750872600@voltnederland.org
DTSTAMP:20260423T142617Z
DTSTART;TZID=Europe/Amsterdam:20250625T193000
DTEND;TZID=Europe/Amsterdam:20250625T230000
SUMMARY:Borrel juni 2025 - Volt Leiden
DESCRIPTION:Leidenaren en Bollenstrekers! En natuurlijk ook een ieder die i
 nteresse heeft in onze lokale Volt community! Volgende week is het weer zov
 er: op  woensdag 25 juni vanaf 19:30  verzamelen we ons in  â€™t Brandewijn
 tje  ( Morsweg 63\, 2332EK\, Leiden ). Er zijn op dit moment veel vragen\, 
 en verrassend weinig antwoorden: â€¢ Staan we aan het begin van de Derde We
 reldoorlog? â€¢ Moet ik maandag naar kantoor of toch richting de kazerne? â
 €¢ Wordt de woningmarkt opgelost door de pechgeneratie gratis onder te br
LOCATION:'t Brandewijntje\, Morsweg 63\, Leiden
URL:https://voltnederland.org/zuid-holland/agenda/borrel-juni-2025-volt-lei
 den
END:VEVENT
END:VCALENDAR
