BEGIN:VCALENDAR
VERSION:2.0
PRODID:-//Volt Europa//Events//EN
CALSCALE:GREGORIAN
METHOD:PUBLISH
BEGIN:VEVENT
UID:borrel-juli-2025-volt-leiden-1753291800@voltnederland.org
DTSTAMP:20260423T174025Z
DTSTART;TZID=Europe/Amsterdam:20250723T193000
DTEND;TZID=Europe/Amsterdam:20250723T230000
SUMMARY:Borrel en Thema-avond Criminaliteit juli 2025 - Volt Leiden
DESCRIPTION:Leidenaren en Bollenstrekers! En natuurlijk ook een ieder ander
  die interesse heeft in onze lokale Volt community! Binnenkort is het weer 
 zo ver! De  Vierde Woensdag van de Maand Borre l van de  Leidse  Volt-commu
 nity! Deze vindt zoals gebruikelijk plaats vanaf  19:30 in ’t Brandewijnt
 je\, aan de Morsweg 63\, 2332 EK in Leiden. Ditmaal zal de borrel echter an
 ders zijn dan normaal. We hebben namelijk weer een spreker:  Menno ten Hove
  \, Criminaliteit consultant en host van de podcast Van Duister naa
LOCATION:'t Brandewijntje\, Morsweg 63\, Leiden
URL:https://voltnederland.org/zuid-holland/agenda/borrel-juli-2025-volt-lei
 den
END:VEVENT
END:VCALENDAR
