BEGIN:VCALENDAR
VERSION:2.0
PRODID:-//Volt Europa//Events//EN
CALSCALE:GREGORIAN
METHOD:PUBLISH
BEGIN:VEVENT
UID:bollenstreek-borrel-1741442400@voltnederland.org
DTSTAMP:20260423T102050Z
DTSTART;TZID=Europe/Amsterdam:20250308T150000
DTEND;TZID=Europe/Amsterdam:20250308T170000
SUMMARY:Bollenstreek Borrel
DESCRIPTION:Leiden en de Bollenstreek bestaat niet alleen uit Leiden. Kom o
 p de interesseborrel van de Bollenstreek omgeving! Te vinden bij Cheers! Le
 er de Bollenstreek beter kennen bij deze Bollenstreek borrel in Voorhout. I
 nteresse of wil je meer te weten komen over Volt? Stuur een berichtje naar 
 dit account of anders naar Leiden@volteuropa.org
LOCATION:Cheers!\, Voorhout
URL:https://voltnederland.org/zuid-holland/agenda/bollenstreek-borrel
END:VEVENT
END:VCALENDAR
