BEGIN:VCALENDAR
VERSION:2.0
PRODID:-//Volt Europa//Events//EN
CALSCALE:GREGORIAN
METHOD:PUBLISH
BEGIN:VEVENT
UID:boekpresentatie-wij-zijn-europa-1715709600@voltnederland.org
DTSTAMP:20260423T114441Z
DTSTART;TZID=Europe/Amsterdam:20240514T200000
DTEND;TZID=Europe/Amsterdam:20240514T213000
SUMMARY:Boekpresentatie "Wij zijn Europa"
DESCRIPTION:Op dinsdagavond 14 mei komt Reinier van Lanschot\, lijsttrekker
  van Volt Nederland bij de Europese Parlementsverkiezingen\, naar Delft om 
 zijn boek "Wij zijn Europa" aan ons te presenteren. De boekpresentatie is b
 ij Browies & Downies op de Voldersgracht 12. De inloop is vanaf 20:00 uur e
 n de presentatie van Reinier start om 20:30 uur. Natuurlijk is het boek van
  Reinier ook te koop op deze avond. De avond eindigt rond 21:30 uur.  De to
 egang is gratis. Er zullen in de ruimte QR-codes beschikbaar zij
LOCATION:Brownies & Downies\, Voldersgracht 12 Delft
URL:https://voltnederland.org/zuid-holland/agenda/boekpresentatie-wij-zijn-
 europa
END:VEVENT
END:VCALENDAR
