BEGIN:VCALENDAR
VERSION:2.0
PRODID:-//Volt Europa//Events//EN
CALSCALE:GREGORIAN
METHOD:PUBLISH
BEGIN:VEVENT
UID:boekpresentatie-wij-zijn-europa-den-haag-1714669200@voltnederland.org
DTSTAMP:20260423T115147Z
DTSTART;TZID=Europe/Amsterdam:20240502T190000
DTEND;TZID=Europe/Amsterdam:20240502T210000
SUMMARY:Boekpresentatie "Wij zijn Europa"
DESCRIPTION:Op donderdagavond 2 mei komt Reinier van Lanschot\, lijsttrekke
 r van Volt Nederland bij de Europese Parlementsverkiezingen\, naar Den Haag
  om zijn boek "Wij zijn Europa" te presenteren als onderdeel van de boektou
 r door het hele land! Reinier geeft naar aanleiding van zijn boek een lezin
 g\, en aansluitend zal hij signeren! Wij zijn Europa Wij leven in een tijd 
 van grote veranderingen. Dagelijks worden in Brussel besluiten genomen met 
 gigantische gevolgen voor 450 miljoen Europeanen\, én de rest van 
LOCATION:Paagman Centrum\, Lange Poten 41 Den Haag
URL:https://voltnederland.org/zuid-holland/agenda/boekpresentatie-wij-zijn-
 europa-den-haag
END:VEVENT
END:VCALENDAR
