BEGIN:VCALENDAR
VERSION:2.0
PRODID:-//Volt Europa//Events//EN
CALSCALE:GREGORIAN
METHOD:PUBLISH
BEGIN:VEVENT
UID:boekpresentatie-post-uit-brussel-mendeltje-van-keulen-1715950800@voltne
 derland.org
DTSTAMP:20260423T114416Z
DTSTART;TZID=Europe/Amsterdam:20240517T150000
DTEND;TZID=Europe/Amsterdam:20240517T163000
SUMMARY:Boekpresentatie "Post uit Brussel" - Mendeltje van Keulen
DESCRIPTION:Op vrijdagmiddag 17 mei presenteert lector  Changing Role of Eu
 rope  Mendeltje van Keulen haar boek “Post uit Brussel”.  Het boek is 
 een verzameling van de columns die Mendeltje schrijft voor Brusselse Nieuwe
 . In de columns gaat zij dieper in op de Europese besluitvorming van beleid
  en de Nederlandse invloed daarop. Na de presentatie van het boek gaan een 
 aantal deskundige en interessante sprekers onder leiding van Bert van Sloot
 en in op vraagstukken over het EU-beleid en de Europese besluitvorm
LOCATION:Haagse Hogeschool\, Johanna Westerdijkplein 75\, Den Haag
URL:https://voltnederland.org/zuid-holland/agenda/boekpresentatie-post-uit-
 brussel-mendeltje-van-keulen
END:VEVENT
END:VCALENDAR
