BEGIN:VCALENDAR
VERSION:2.0
PRODID:-//Volt Europa//Events//EN
CALSCALE:GREGORIAN
METHOD:PUBLISH
BEGIN:VEVENT
UID:bijeenkomst-voor-een-volt-community-in-rijswijk-1729333800@voltnederlan
 d.org
DTSTAMP:20260423T161253Z
DTSTART;TZID=Europe/Amsterdam:20241019T123000
DTEND;TZID=Europe/Amsterdam:20241019T170000
SUMMARY:Bijeenkomst voor een Volt-community in Rijswijk
DESCRIPTION:Een groep enthousiaste Rijswijkers is samen met Volt Den Haag b
 ij elkaar gekomen voor het bouwen van een community om in 2026 mee te kunne
 n doen aan de gemeenteraadsverkiezingen in Rijswijk. In vervolg daarop orga
 niseren we op 19 oktober een speciale Rijswijk-dag voor Volt-leden en Volt-
 geïnteresseerden om mee te denken en mee te doen.   Heb jij goede ideeën
  of wil je helpen om Volt Rijswijk op de kaart te zetten? Neem dan contact 
 op via  denhaag@voltnederland.org  en zet 19 oktober alvast in je
LOCATION:Helena van Doeverenplantsoen 3 2512 ZB Den Haag
URL:https://voltnederland.org/zuid-holland/agenda/bijeenkomst-voor-een-volt
 -community-in-rijswijk
END:VEVENT
END:VCALENDAR
