BEGIN:VCALENDAR
VERSION:2.0
PRODID:-//Volt Europa//Events//EN
CALSCALE:GREGORIAN
METHOD:PUBLISH
BEGIN:VEVENT
UID:bijeenkomst-volt-wassenaar-vrijdag-7-februari-in-villa-maarheeze-173895
 3000@voltnederland.org
DTSTAMP:20260423T115542Z
DTSTART;TZID=Europe/Amsterdam:20250207T193000
DTEND;TZID=Europe/Amsterdam:20250207T220000
SUMMARY:Bijeenkomst Volt Wassenaar: vrijdag 7 februari in Restaurant De Bar
 on
DESCRIPTION:Volt Wassenaar maakt zich klaar voor een ambitieuze stap: deeln
 ame aan de gemeenteraadsverkiezingen! Op vrijdagavond  7 februari 2025  nod
 igen we je uit voor onze eerste bijeenkomst in Restaurant De Baron Wat kun 
 je verwachten? Tijdens deze avond deelt voormalig Minister van Buitenlandse
  Zaken Uri Rosenthal zijn inzichten in een inspirational speech. Vervolgens
  gaan Volt-politici in een paneldiscussie   in op de raakvlakken tussen het
  Volt-gedachtegoed en hun politieke werk op Europees\, nationaa
LOCATION:Restaurant De Baron\, Katwijkseweg 7\, 2242 PA Wassenaar
URL:https://voltnederland.org/zuid-holland/agenda/bijeenkomst-volt-wassenaa
 r-vrijdag-7-februari-in-villa-maarheeze
END:VEVENT
END:VCALENDAR
