BEGIN:VCALENDAR
VERSION:2.0
PRODID:-//Volt Europa//Events//EN
CALSCALE:GREGORIAN
METHOD:PUBLISH
BEGIN:VEVENT
UID:beleidsavond-digitalisering-1778691600@voltnederland.org
DTSTAMP:20260421T091754Z
DTSTART;TZID=Europe/Amsterdam:20260513T190000
DTEND;TZID=Europe/Amsterdam:20260513T210000
SUMMARY:Beleidsavond Volt Zuid-Holland: Digitalisering 💻
DESCRIPTION:Op  13 mei  organiseert Volt Zuid-Holland een beleidsavond over
   digitalisering . Tijdens deze bijeenkomst bespreken we actuele uitdaginge
 n en kansen en gaan we samen met leden en experts in gesprek over de toekom
 st van Zuid-Holland. De provincie speelt bijvoorbeeld een belangrijke rol o
 p het gebied van cyberweerbaarheid\, de digitalisering van de eigen organis
 atie en het versterken van toegankelijkheid. Vanuit een toekomstbeeld van h
 oe Zuid-Holland er in 2100 uit kan zien\, bespreken we welke sta
LOCATION:Provinciehuis Zuid-Holland (Zuid-Hollandplein 1\, Den Haag)
URL:https://voltnederland.org/zuid-holland/agenda/beleidsavond-digitaliseri
 ng
END:VEVENT
END:VCALENDAR
