BEGIN:VCALENDAR
VERSION:2.0
PRODID:-//Volt Europa//Events//EN
CALSCALE:GREGORIAN
METHOD:PUBLISH
BEGIN:VEVENT
UID:antwerpen-b-volt-campagnedag-gemeenteraadsverkiezingen-1728122400@voltn
 ederland.org
DTSTAMP:20260423T114310Z
DTSTART;TZID=Europe/Amsterdam:20241005T120000
DTEND;TZID=Europe/Amsterdam:20241005T170000
SUMMARY:Antwerpen (B) - Volt campagnedag gemeenteraadsverkiezingen
DESCRIPTION:Zondag 13 oktober zijn er gemeenteraadsverkiezingen in België.
  En Volt doet in meerdere steden mee! Op zaterdagmiddag 5 oktober gaan we m
 et een groep Nederlandse Volters helpen met de Volt campagne in Antwerpen. 
  We gaan flyeren op de Meir en andere plekken waar veel Antwerpenaren komen
 . En misschien sluiten we de dag af met een ´Bolleke´ op de Groenplaats. 
  Verzamelen om 12 uur voor het station Antwerpen Centraal. ------ Sunday Oc
 tober 13th there will be municipal elections in Belgium. And Volt
LOCATION:Antwerpen - Koningin Astridplein 27\, 2018 Antwerpen\, Belgium
URL:https://voltnederland.org/agenda/antwerpen-b-volt-campagnedag-gemeenter
 aadsverkiezingen
END:VEVENT
END:VCALENDAR
