BEGIN:VCALENDAR
VERSION:2.0
PRODID:-//Volt Europa//Events//EN
CALSCALE:GREGORIAN
METHOD:PUBLISH
BEGIN:VEVENT
UID:alv-rotterdam-zuid-holland-zuid-1741442400@voltnederland.org
DTSTAMP:20260423T114247Z
DTSTART;TZID=Europe/Amsterdam:20250308T150000
DTEND;TZID=Europe/Amsterdam:20250308T180000
SUMMARY:Algemene ledenvergadering Rotterdam Zuid-Holland Zuid
DESCRIPTION:Op zaterdag 8 maart 2025 organiseren we een belangrijke algemen
 e ledenvergadering (ALV). Tijdens deze ALV stemmen we over de nieuwe KanCie
 -leden\, die vervolgens de advieskandidatenlijst voor de gemeenteraadsverki
 ezingen in 2026 zullen samenstellen. Dit is een cruciale stap in onze aanlo
 op naar de verkiezingen\, en we hopen op een brede betrokkenheid van onze l
 eden! We gaan ervan uit dat je de ALV fysiek bijwoont\, omdat dit de beste 
 manier is om samen te komen en ideeën uit te wisselen. Mocht je e
LOCATION:Fjord Eat & Drink (Blaak 776\, 3011 TA\, Rotterdam)
URL:https://voltnederland.org/zuid-holland/agenda/alv-rotterdam-zuid-hollan
 d-zuid
END:VEVENT
END:VCALENDAR
