BEGIN:VCALENDAR
VERSION:2.0
PRODID:-//Volt Europa//Events//EN
CALSCALE:GREGORIAN
METHOD:PUBLISH
BEGIN:VEVENT
UID:afdelingscongres-volt-rotterdam-zuid-holland-zuid-13-december-2025-1765
 627200@voltnederland.org
DTSTAMP:20260424T031540Z
DTSTART;TZID=Europe/Amsterdam:20251213T130000
DTEND;TZID=Europe/Amsterdam:20251213T170000
SUMMARY:Afdelingscongres Volt Rotterdam Zuid-Holland Zuid 13 december 2025
DESCRIPTION:Op  zaterdag 13 december 2025  organiseert Volt Rotterdam Zuid-
 Holland Zuid een belangrijke  algemene ledenvergadering  (ALV). Vanaf  12:3
 0 uur  zijn jullie welkom bij  ‘t Manneke  in  Berkel en Rodenrijs \, om 
 13:00 uur start het congres. Tijdens deze ALV stemmen we over de kandidaten
 lijsten van de gemeenten Rotterdam en Lansingerland\, het beleidsprogramma.
  Dit is een cruciale stap in onze aanloop naar de verkiezingen\, en we hope
 n op een brede betrokkenheid van onze leden!  Belangrijke info voor
LOCATION:‘t Manneke in Berkel en Rodenrijs
URL:https://voltnederland.org/zuid-holland/agenda/afdelingscongres-volt-rot
 terdam-zuid-holland-zuid-13-december-2025
END:VEVENT
END:VCALENDAR
