BEGIN:VCALENDAR
VERSION:2.0
PRODID:-//Volt Europa//Events//EN
CALSCALE:GREGORIAN
METHOD:PUBLISH
BEGIN:VEVENT
UID:afdelingscongres-haag-en-rijnland-1739619000@voltnederland.org
DTSTAMP:20260423T114539Z
DTSTART;TZID=Europe/Amsterdam:20250215T123000
DTEND;TZID=Europe/Amsterdam:20250215T160000
SUMMARY:Afdelingscongres Haag- en Rijnland
DESCRIPTION:Wees welkom op ons afdelingscongres! Tijdens dit congres bespre
 ken we de gemeenteraadsverkiezingen in 2026\, de begroting\, kiezen we nieu
 we bestuursleden en zorgen we dat de kandidatencommissie goed gevuld is.
LOCATION:Zeeheldentheater\, Trompstraat 342\, Den Haag
URL:https://voltnederland.org/zuid-holland/agenda/afdelingscongres-haag-en-
 rijnland
END:VEVENT
END:VCALENDAR
