BEGIN:VCALENDAR
VERSION:2.0
PRODID:-//Volt Europa//Events//EN
CALSCALE:GREGORIAN
METHOD:PUBLISH
BEGIN:VEVENT
UID:afdelingscongres-de-officiele-aftrap-van-onze-gemeenteraadscampagne-176
 4417600@voltnederland.org
DTSTAMP:20260423T212846Z
DTSTART;TZID=Europe/Amsterdam:20251129T130000
DTEND;TZID=Europe/Amsterdam:20251129T160000
SUMMARY:Afdelingscongres – de officiële aftrap van onze gemeenteraads­c
 ampagne!
DESCRIPTION:ENGLISH BELOW Op 29 november vindt het afdelingscongres plaats 
 in Bleyenburg\, Den Haag. Dit is een belangrijk moment voor Volt in onze re
 gio: samen bepalen we wie verkiesbaar wordt voor Volt in zes gemeenten\, De
 n Haag\, Delft\, Gouda\, Leiden\, Leidschendam-Voorburg en Wassenaar en ste
 mmen we over de verkiezingsprogramma’s en eventuele amendementen en kieze
 n we nieuwe bestuursleden. We hopen op een uitverkocht congres\, dus vergee
 t vooral geen kaartje te kopen. Dit congres markeert de start van onze 
LOCATION:Bleyenburg\, Grote Markt 10\, Den Haag
URL:https://voltnederland.org/agenda/afdelingscongres-de-officiele-aftrap-v
 an-onze-gemeenteraadscampagne
END:VEVENT
END:VCALENDAR
